BEGIN:VCALENDAR
VERSION:2.0
PRODID:-//Bar None Country Store - ECPv6.15.18//NONSGML v1.0//EN
CALSCALE:GREGORIAN
METHOD:PUBLISH
X-ORIGINAL-URL:https://barnonecountrystore.com
X-WR-CALDESC:Events for Bar None Country Store
REFRESH-INTERVAL;VALUE=DURATION:PT1H
X-Robots-Tag:noindex
X-PUBLISHED-TTL:PT1H
BEGIN:VTIMEZONE
TZID:America/Chicago
BEGIN:DAYLIGHT
TZOFFSETFROM:-0600
TZOFFSETTO:-0500
TZNAME:CDT
DTSTART:20180311T080000
END:DAYLIGHT
BEGIN:STANDARD
TZOFFSETFROM:-0500
TZOFFSETTO:-0600
TZNAME:CST
DTSTART:20181104T070000
END:STANDARD
BEGIN:DAYLIGHT
TZOFFSETFROM:-0600
TZOFFSETTO:-0500
TZNAME:CDT
DTSTART:20190310T080000
END:DAYLIGHT
BEGIN:STANDARD
TZOFFSETFROM:-0500
TZOFFSETTO:-0600
TZNAME:CST
DTSTART:20191103T070000
END:STANDARD
BEGIN:DAYLIGHT
TZOFFSETFROM:-0600
TZOFFSETTO:-0500
TZNAME:CDT
DTSTART:20200308T080000
END:DAYLIGHT
BEGIN:STANDARD
TZOFFSETFROM:-0500
TZOFFSETTO:-0600
TZNAME:CST
DTSTART:20201101T070000
END:STANDARD
BEGIN:DAYLIGHT
TZOFFSETFROM:-0600
TZOFFSETTO:-0500
TZNAME:CDT
DTSTART:20210314T080000
END:DAYLIGHT
BEGIN:STANDARD
TZOFFSETFROM:-0500
TZOFFSETTO:-0600
TZNAME:CST
DTSTART:20211107T070000
END:STANDARD
BEGIN:DAYLIGHT
TZOFFSETFROM:-0600
TZOFFSETTO:-0500
TZNAME:CDT
DTSTART:20220313T080000
END:DAYLIGHT
BEGIN:STANDARD
TZOFFSETFROM:-0500
TZOFFSETTO:-0600
TZNAME:CST
DTSTART:20221106T070000
END:STANDARD
BEGIN:DAYLIGHT
TZOFFSETFROM:-0600
TZOFFSETTO:-0500
TZNAME:CDT
DTSTART:20230312T080000
END:DAYLIGHT
BEGIN:STANDARD
TZOFFSETFROM:-0500
TZOFFSETTO:-0600
TZNAME:CST
DTSTART:20231105T070000
END:STANDARD
BEGIN:DAYLIGHT
TZOFFSETFROM:-0600
TZOFFSETTO:-0500
TZNAME:CDT
DTSTART:20240310T080000
END:DAYLIGHT
BEGIN:STANDARD
TZOFFSETFROM:-0500
TZOFFSETTO:-0600
TZNAME:CST
DTSTART:20241103T070000
END:STANDARD
BEGIN:DAYLIGHT
TZOFFSETFROM:-0600
TZOFFSETTO:-0500
TZNAME:CDT
DTSTART:20250309T080000
END:DAYLIGHT
BEGIN:STANDARD
TZOFFSETFROM:-0500
TZOFFSETTO:-0600
TZNAME:CST
DTSTART:20251102T070000
END:STANDARD
BEGIN:DAYLIGHT
TZOFFSETFROM:-0600
TZOFFSETTO:-0500
TZNAME:CDT
DTSTART:20260308T080000
END:DAYLIGHT
BEGIN:STANDARD
TZOFFSETFROM:-0500
TZOFFSETTO:-0600
TZNAME:CST
DTSTART:20261101T070000
END:STANDARD
END:VTIMEZONE
BEGIN:VEVENT
DTSTART;TZID=America/Chicago:20250510T100000
DTEND;TZID=America/Chicago:20250510T140000
DTSTAMP:20260421T191832
CREATED:20250505T202754Z
LAST-MODIFIED:20250505T202754Z
UID:89611-1746871200-1746885600@barnonecountrystore.com
SUMMARY:Moms\, Mimosas & More
DESCRIPTION:Mom’s\, Mimosas and More Please join us for a day filled with fun!\nFree mimosas\, wine\, beer and non-alcoholic beverages.\nMother’s Day sale items\, including Consuela\, Tyler\, Circle E\, clothing and more!\nFloral Bouquets\, Brighten her day with a beautiful bouquet of flowers available for purchase.\n Sweet Treats\, including donuts\, cupcakes and more!\nPermanent Jewelry\, match mom with your own permanent jewelry!\nWhether you are shopping for the perfect gift or treating yourself\, this event will be a fun way to celebrate Mother’s Day We hope to see you there!
URL:https://barnonecountrystore.com/event/moms-mimosas-more/
LOCATION:Bar None Country Store
CATEGORIES:Home Page Event,Sale
ATTACH;FMTTYPE=image/jpeg:https://barnonecountrystore.com/wp-content/uploads/2025/05/bncs-mom-mimosa.jpeg
END:VEVENT
BEGIN:VEVENT
DTSTART;TZID=America/Chicago:20231230T080000
DTEND;TZID=America/Chicago:20231230T180000
DTSTAMP:20260421T191832
CREATED:20231130T215517Z
LAST-MODIFIED:20231130T215517Z
UID:35702-1703923200-1703959200@barnonecountrystore.com
SUMMARY:Annual Bag Sale
DESCRIPTION:Looking for an after Christmas bargain?? Stop by Bar None Country Store on Saturday\, December 30\, 2023 for our Annual Fill the Bag Sale! Here’s how it’ll work: \nWe’ll have the back room loaded with items: clothing\, shoes\, accessories\, and much more. You pick a shopping bag. We’ll have 2 sizes: small and large. Fill a small bag* for $60 and a large bag* for $100! \n*You must be able to staple the bag shut. ALL SALES FINAL!
URL:https://barnonecountrystore.com/event/annual-bag-sale/
LOCATION:Bar None Country Store
CATEGORIES:Home Page Event,Sale
ATTACH;FMTTYPE=image/png:https://barnonecountrystore.com/wp-content/uploads/2023/11/bag.png
END:VEVENT
BEGIN:VEVENT
DTSTART;VALUE=DATE:20230528
DTEND;VALUE=DATE:20230530
DTSTAMP:20260421T191832
CREATED:20230425T192753Z
LAST-MODIFIED:20230425T192753Z
UID:33091-1685300400-1685386799@barnonecountrystore.com
SUMMARY:Open Memorial Day May 29
DESCRIPTION:Bar None Country Store will be OPEN normal business hours\, 8:00am – 6:30pm on Memorial Day\, Monday\, May 29\, 2023. \nOur country celebrates Memorial Day in remembrance of the men and women who died while serving in the United States Armed Forces. We are thankful for their service. \nPlease enjoy a very safe holiday weekend with your family and friends.
URL:https://barnonecountrystore.com/event/open-memorial-day-may-29/
LOCATION:Bar None Country Store
CATEGORIES:Home Page Event
ATTACH;FMTTYPE=image/png:https://barnonecountrystore.com/wp-content/uploads/2023/04/memorial-day-23-.png
END:VEVENT
BEGIN:VEVENT
DTSTART;VALUE=DATE:20230513
DTEND;VALUE=DATE:20230515
DTSTAMP:20260421T191832
CREATED:20230425T225858Z
LAST-MODIFIED:20230425T225858Z
UID:33097-1684004400-1684090799@barnonecountrystore.com
SUMMARY:Mother's Day ~ May 14 ~ Closed
DESCRIPTION:As we celebrate mom on Sunday May 14\, 2023\, please note that Bar None Country Store will be closed. Please take a moment today to pause and count all the blessings in your life. Enjoy the day with your family and friends.
URL:https://barnonecountrystore.com/event/mothers-day-may-14-closed/
CATEGORIES:Home Page Event
ATTACH;FMTTYPE=image/png:https://barnonecountrystore.com/wp-content/uploads/2023/04/mothers-day-23-c.png
END:VEVENT
BEGIN:VEVENT
DTSTART;TZID=America/Chicago:20230222T110000
DTEND;TZID=America/Chicago:20230222T140000
DTSTAMP:20260421T191832
CREATED:20230204T023526Z
LAST-MODIFIED:20230204T023526Z
UID:32231-1677063600-1677074400@barnonecountrystore.com
SUMMARY:Annual Cattle Mineral Meeting
DESCRIPTION:Cattle owners\, the 2023 date for our annual Cattle Mineral Meeting at The Exchange Event Center in McGregor is Wednesday\, February 23\, 2023. Join us for good food\, a steak dinner\, important information and fellowship. Guest speakers will be Dr. Jon DeClerck from Purina Animal Nutrition and Jason Swain from Zoetic Animal Health. Representatives from Purina Animal Nutrition\, Zinpro\, Central Life Sciences and other great vendors will be in attendance. \nYou don’t want to miss this meeting. \nThis will be your only time to book your 2023 mineral at discounted prices\, so you don’t want to miss out. \nDoors open at 5:00pm. Arrive early and visit with our knowledgeable vendors.  Steak dinner at 6:00pm.  Presentation at 6:30pm. Door prizes TOO! \nRSVP online\, in store or by calling Bar None Country Store at 254-848-9112\, McGregor General Store at 254-840-3224 or China Spring Country Store at 254-752-0777. \nClick here for a map to the Cattle Mineral Meeting location in McGregor.
URL:https://barnonecountrystore.com/event/annual-cattle-mineral-meeting/
LOCATION:The Exchange Event Center\, 300 S Jefferson Ave\, McGregor\, Texas 76657
CATEGORIES:Home Page Event
ATTACH;FMTTYPE=image/png:https://barnonecountrystore.com/wp-content/uploads/2023/01/mineral-meeting-v2.png
END:VEVENT
BEGIN:VEVENT
DTSTART;TZID=America/Chicago:20221116T110000
DTEND;TZID=America/Chicago:20221116T140000
DTSTAMP:20260421T191832
CREATED:20221021T002708Z
LAST-MODIFIED:20221021T015853Z
UID:30683-1668596400-1668607200@barnonecountrystore.com
SUMMARY:Equine Educational Event
DESCRIPTION:Horse owners\, join us at our Equine Educational Event on Wednesday\, November 16\, 2022 at The Exchange Event Center\, 300 S Jefferson Ave.\, McGregor\, TX 76657. \nMultiple champion speakers from a variety of disciplines including: \nJordan Briggs\, World Champion Barrel Racer \nJordi Evans\, Professional Breakaway Roper \nDeidre Sabo\, Multi- USDG Medalist \nDr. Erin Lemmons\, Endurance Rider & Veterinarian \nJustin Briggs\, Briggs Performance Horses \n  \nThis is a FREE event that includes dinner\, door prizes and giveaways! \nCome early! We’ll also have multiple vendors with booths that have lots of information to share. \nThis is our schedule for the evening: \n\nDoors open at 5pm.\nDinner is served at 6pm.\nMeeting begins at 6:30pm.\n\nClick here for directions to The Exchange Event Center in McGregor. \nPlease RSVP by Friday \, November 11\, 2022 by scanning the QR Code below. \nQuestions? Please contact Bryson Williams\, our Livestock Production Specialist at 806-869-5351. \n \n  \n 
URL:https://barnonecountrystore.com/event/equine-educational-event/
LOCATION:The Exchange Event Center\, 300 S Jefferson Ave\, McGregor\, Texas 76657
CATEGORIES:Home Page Event
ATTACH;FMTTYPE=image/jpeg:https://barnonecountrystore.com/wp-content/uploads/2022/10/equine-seminar-v2.jpeg
END:VEVENT
BEGIN:VEVENT
DTSTART;VALUE=DATE:20220416
DTEND;VALUE=DATE:20220418
DTSTAMP:20260421T191832
CREATED:20220404T200258Z
LAST-MODIFIED:20220404T200258Z
UID:26948-1650135600-1650221999@barnonecountrystore.com
SUMMARY:Easter Sunday Closed
DESCRIPTION:Happy Easter!! May your day be filled with love\, joy\, and peace. Enjoy time with your family\, friends and loved ones on Easter Sunday\, April 17. Bar None Country Store is closed. We’ll see you on Monday!
URL:https://barnonecountrystore.com/event/easter-sunday-closed/
CATEGORIES:Home Page Event
ATTACH;FMTTYPE=image/png:https://barnonecountrystore.com/wp-content/uploads/2022/04/easter-2022-religious.png
END:VEVENT
BEGIN:VEVENT
DTSTART;VALUE=DATE:20210114
DTEND;VALUE=DATE:20210117
DTSTAMP:20260421T191832
CREATED:20210108T002101Z
LAST-MODIFIED:20210108T002242Z
UID:23627-1610647200-1610819999@barnonecountrystore.com
SUMMARY:DBC Winter Auction 2021
DESCRIPTION:Bid\, Buy\, Breed at the DBC Winter Auction! Join us on January 15-16\, 2021 in the Texas Hill Country at Horseshoe Bay Resort in Horseshoe Bay\, TX for the Deer Breeders Corporation 13 Annual Winter Auction. \nDeer Breeders Corporation is a member owned organization that promotes and supports the deer breeding and the hunting industry. Bar None Country Store is once again a proud sponsor of this event\, also sponsoring the lunch on Saturday. Stop by and visit with us at our booth. For more information\, and to view available deer lots\, visit their website here.
URL:https://barnonecountrystore.com/event/dbc-winter-auction-2021/
LOCATION:Horseshoe Bay Resort
CATEGORIES:Home Page Event
ATTACH;FMTTYPE=image/jpeg:https://barnonecountrystore.com/wp-content/uploads/2021/01/2021-dbc-winter-auction.jpg
END:VEVENT
BEGIN:VEVENT
DTSTART;VALUE=DATE:20201217
DTEND;VALUE=DATE:20201225
DTSTAMP:20260421T191832
CREATED:20201203T003128Z
LAST-MODIFIED:20201203T003128Z
UID:23131-1608228000-1608832799@barnonecountrystore.com
SUMMARY:Holiday Countdown Sale
DESCRIPTION:Get 20% off all regular price clothing\, shoes\, accessories\, jewelry\, home decor\, candles and windchimes.*\n*Some exclusions may apply. Please ask at store for more details.
URL:https://barnonecountrystore.com/event/holiday-countdown-sale/
LOCATION:Bar None Country Store
CATEGORIES:Home Page Event,Sale
ATTACH;FMTTYPE=image/png:https://barnonecountrystore.com/wp-content/uploads/2020/12/holiday-countdown-sale.png
END:VEVENT
BEGIN:VEVENT
DTSTART;VALUE=DATE:20201125
DTEND;VALUE=DATE:20201127
DTSTAMP:20260421T191832
CREATED:20201103T010143Z
LAST-MODIFIED:20201103T010205Z
UID:22615-1606327200-1606413599@barnonecountrystore.com
SUMMARY:Happy Thanksgiving!
DESCRIPTION:Bar None Country Store would like to wish all our customers a very Happy Thanksgiving Day on Thursday\, November 26.  We are closed Thanksgiving Day.  Please enjoy the day with your family and friends.  Take time to reflect on what you are thankful for.  We’ll be open normal business hours on Wednesday\, November 25 and Friday\, November 27\, 8:00am – 6:30pm.  Make sure you add us to your list of places to stop on Black Friday Weekend\, November 27 – 29.
URL:https://barnonecountrystore.com/event/happy-thanksgiving/
LOCATION:Bar None Country Store
CATEGORIES:Home Page Event
ATTACH;FMTTYPE=image/png:https://barnonecountrystore.com/wp-content/uploads/2020/11/Happy-thanksgiving-2020.png
END:VEVENT
BEGIN:VEVENT
DTSTART;VALUE=DATE:20191128
DTEND;VALUE=DATE:20191202
DTSTAMP:20260421T191832
CREATED:20191101T192128Z
LAST-MODIFIED:20191101T192128Z
UID:7766-1574964000-1575223199@barnonecountrystore.com
SUMMARY:Black Friday Weekend Sale
DESCRIPTION:This year add Bar None Country Store to your list of shopping destinations Black Friday Weekend\, November 29 – December 1! Don’t forget to bring your “Bring Back Bucks” to redeem! \nWe promise you that it’ll be worth the stop and we’ll help you cross names off of your shopping list. \nNovember 29 – December 1 : \n>> Clothing and shoes and jewelry are 30% OFF* \n>> Toys and Gift Items are 25% OFF* \nWe’ll open normal business hours 8:00am and close at 6:00pm. Skip fighting for a parking spot and traffic at a big box store. Shop local. \n*Sorry\, no other discounts or coupons can be applied.
URL:https://barnonecountrystore.com/event/black-friday-weekend-sale/
LOCATION:Bar None Country Store
CATEGORIES:Home Page Event
ATTACH;FMTTYPE=image/png:https://barnonecountrystore.com/wp-content/uploads/2019/11/bncs-Black-Friday-Weekend-Sale.png
END:VEVENT
BEGIN:VEVENT
DTSTART;VALUE=DATE:20191127
DTEND;VALUE=DATE:20191129
DTSTAMP:20260421T191832
CREATED:20191101T190522Z
LAST-MODIFIED:20191101T190522Z
UID:7761-1574877600-1574963999@barnonecountrystore.com
SUMMARY:Thanksgiving: Closed
DESCRIPTION:Bar None Country Store would like to wish all our customers a very Happy Thanksgiving Day on Thursday\, November 28.  We are closed Thanksgiving Day.  Please enjoy the day with your family and friends.  Take time to reflect on what you are thankful for.  We’ll be open normal business hours on Wednesday\, November 27 and Friday\, November 29\, 8:00am – 6:30pm.  Make sure you add us to your list of places to stop on Black Friday Weekend\, November 29 – December 1. Redeem all your “Bring Back Bucks” during our big Black Friday Weekend Sale!
URL:https://barnonecountrystore.com/event/thanksgiving-closed/
LOCATION:Bar None Country Store
CATEGORIES:Holiday,Home Page Event
ATTACH;FMTTYPE=image/png:https://barnonecountrystore.com/wp-content/uploads/2019/11/happy-thanksgiving-2019-2.png
END:VEVENT
BEGIN:VEVENT
DTSTART;TZID=America/Chicago:20191102T210000
DTEND;TZID=America/Chicago:20191102T210000
DTSTAMP:20260421T191832
CREATED:20190925T020917Z
LAST-MODIFIED:20190925T020917Z
UID:7435-1572728400-1572728400@barnonecountrystore.com
SUMMARY:Daylight Savings Time Ends
DESCRIPTION:It’s time to “fall back” and gain an extra hour of sleep.  It also means that evening comes much sooner. \nDaylight Savings Time ends at 2:00a.m. on Sunday\, November 3\, 2019.  Remember to set your clocks back 1 hour before you head to bed or you’ll be super early for church on Sunday morning.
URL:https://barnonecountrystore.com/event/daylight-savings-time-ends/
LOCATION:Bar None Country Store
CATEGORIES:Home Page Event
ATTACH;FMTTYPE=image/png:https://barnonecountrystore.com/wp-content/uploads/2019/09/Daylight-Savings-Time-Ends-copy.png
END:VEVENT
BEGIN:VEVENT
DTSTART;TZID=America/Chicago:20191024T030000
DTEND;TZID=America/Chicago:20191024T040000
DTSTAMP:20260421T191832
CREATED:20190926T014954Z
LAST-MODIFIED:20190926T014954Z
UID:7456-1571886000-1571889600@barnonecountrystore.com
SUMMARY:Fall Fish Truck
DESCRIPTION:Restock your pond on Thursday\, October 24\, 8:00 – 9:00am at Bar None Country Store.  The fish truck from Arkansas Pondstockers will be rolling into our parking lot. \nThe truck will have channel catfish\, largemouth bass\, black crappie\, blue gill\, red ear bream\, hybrid bluegill\, koi and fathead minnows. \nContainers furnished\, but bring your ice chest with your own pond water for bigger fish.  No pre-orders necessary\, but if you want specific fish guaranteed\, you can call Arkansas Pond Stockers directly at 1-800-843-4748 to reserve your fish.
URL:https://barnonecountrystore.com/event/fall-fish-truck/
LOCATION:Bar None Country Store
CATEGORIES:Home Page Event
ATTACH;FMTTYPE=image/jpeg:https://barnonecountrystore.com/wp-content/uploads/2019/09/oct-24-fish-truck.jpeg
END:VEVENT
BEGIN:VEVENT
DTSTART;VALUE=DATE:20191002
DTEND;VALUE=DATE:20191014
DTSTAMP:20260421T191832
CREATED:20190924T224024Z
LAST-MODIFIED:20190924T224024Z
UID:7429-1570042800-1570993199@barnonecountrystore.com
SUMMARY:2019 Heart O' Texas Fair & Rodeo
DESCRIPTION:It’  time for the fair! The Heart O’ Texas Fair and Rodeo is October 3-13\, 2019 at the Extraco Events Center in Waco.  This is a fabulous event filled with loads of fun for the family.  There will be entertainment\, rodeo\, livestock show\, rides\, midway\, carnival\, creative arts and MORE! \nLook in the rodeo this year. We have a new sponsorship banner hanging just in time for the fair to begin! \nEveryone at Bar None Country Store wishes all the fine young men and women showing animals this year the best of luck! We know you’ve put a lot of hard work into your projects this year. View all the event schedules and get all the details on the fair website here.
URL:https://barnonecountrystore.com/event/2019-heart-o-texas-fair-rodeo/
LOCATION:ExtraCo Event Center\, 4601 Bosque Blvd.\, Waco\, Texas\, 76710
CATEGORIES:Home Page Event
END:VEVENT
BEGIN:VEVENT
DTSTART;VALUE=DATE:20190703
DTEND;VALUE=DATE:20190705
DTSTAMP:20260421T191832
CREATED:20190603T051118Z
LAST-MODIFIED:20190603T051118Z
UID:6051-1562180400-1562266799@barnonecountrystore.com
SUMMARY:Happy 4th of July!
DESCRIPTION:Happy Independence Day!  Bar None Country Store is OPEN this year on Thursday\, July 4\, 2019 normal business hours\, 8:00am – 6:30pm.  If you are out and about\, please stop and see us.  Wherever the day takes you\, we’d like to wish everyone a very safe and Happy 4th of July holiday.
URL:https://barnonecountrystore.com/event/happy-4th-of-july/
LOCATION:Bar None Country Store
CATEGORIES:Home Page Event
ATTACH;FMTTYPE=image/png:https://barnonecountrystore.com/wp-content/uploads/2019/06/Happy-Independence-Day-2.png
END:VEVENT
BEGIN:VEVENT
DTSTART;VALUE=DATE:20190526
DTEND;VALUE=DATE:20190528
DTSTAMP:20260421T191832
CREATED:20190503T211323Z
LAST-MODIFIED:20190503T211405Z
UID:5742-1558897200-1558983599@barnonecountrystore.com
SUMMARY:We are Open Memorial Day
DESCRIPTION:Bar None Country Store will be OPEN normal business hours\, 8:00am – 6:30pm this year on Memorial Day\, May 27. \nIn remembrance of the men and women who died while serving in the United States Armed Forces\, we join in celebrating Memorial Day. Please enjoy a very safe holiday with your family and friends.
URL:https://barnonecountrystore.com/event/we-are-open-memorial-day/
LOCATION:Bar None Country Store
CATEGORIES:Home Page Event
ATTACH;FMTTYPE=image/png:https://barnonecountrystore.com/wp-content/uploads/2019/05/memorial-day-2.png
END:VEVENT
BEGIN:VEVENT
DTSTART;VALUE=DATE:20190420
DTEND;VALUE=DATE:20190422
DTSTAMP:20260421T191832
CREATED:20190402T000125Z
LAST-MODIFIED:20190402T193715Z
UID:5370-1555786800-1555873199@barnonecountrystore.com
SUMMARY:Easter Sunday April 21: Closed
DESCRIPTION:Happy Easter!! May your day be filled with love\, joy\, and peace. This Easter Sunday\, enjoy time with your family\, friends and loved ones. McGregor General Store will be CLOSED for the holiday on Sunday\, April 21. We’ll see you all on Monday! If you can’t wait\, check our online store. New arrivals are added everyday including clearance items!
URL:https://barnonecountrystore.com/event/easter-sunday-april-21-closed/
CATEGORIES:Holiday,Home Page Event
ATTACH;FMTTYPE=image/jpeg:https://barnonecountrystore.com/wp-content/uploads/2019/04/easter-fun-post.jpg
END:VEVENT
END:VCALENDAR