BEGIN:VCALENDAR
VERSION:2.0
PRODID:-//Bar None Country Store - ECPv6.15.18//NONSGML v1.0//EN
CALSCALE:GREGORIAN
METHOD:PUBLISH
X-WR-CALNAME:Bar None Country Store
X-ORIGINAL-URL:https://barnonecountrystore.com
X-WR-CALDESC:Events for Bar None Country Store
REFRESH-INTERVAL;VALUE=DURATION:PT1H
X-Robots-Tag:noindex
X-PUBLISHED-TTL:PT1H
BEGIN:VTIMEZONE
TZID:America/Chicago
BEGIN:DAYLIGHT
TZOFFSETFROM:-0600
TZOFFSETTO:-0500
TZNAME:CDT
DTSTART:20180311T080000
END:DAYLIGHT
BEGIN:STANDARD
TZOFFSETFROM:-0500
TZOFFSETTO:-0600
TZNAME:CST
DTSTART:20181104T070000
END:STANDARD
BEGIN:DAYLIGHT
TZOFFSETFROM:-0600
TZOFFSETTO:-0500
TZNAME:CDT
DTSTART:20190310T080000
END:DAYLIGHT
BEGIN:STANDARD
TZOFFSETFROM:-0500
TZOFFSETTO:-0600
TZNAME:CST
DTSTART:20191103T070000
END:STANDARD
BEGIN:DAYLIGHT
TZOFFSETFROM:-0600
TZOFFSETTO:-0500
TZNAME:CDT
DTSTART:20200308T080000
END:DAYLIGHT
BEGIN:STANDARD
TZOFFSETFROM:-0500
TZOFFSETTO:-0600
TZNAME:CST
DTSTART:20201101T070000
END:STANDARD
END:VTIMEZONE
BEGIN:VEVENT
DTSTART;TZID=America/Chicago:20190323T030000
DTEND;TZID=America/Chicago:20190324T120000
DTSTAMP:20260421T222302
CREATED:20190302T014622Z
LAST-MODIFIED:20190402T004655Z
UID:5374-1553310000-1553428800@barnonecountrystore.com
SUMMARY:South 40 Outdoor Expo
DESCRIPTION:Looking for a place where you can see everything fun and educational to do with the outdoors?\nJoin us! March 23-24 for the Annual South 40 Outdoor Expo in Waco at the ExtraCo Event Center. Exhibitors will showcase the different outdoor activities available to you in central Texas. Proceeds from this event go towards the Heart of Texas Fair & Rodeo Scholarship Fund. Attractions include a rock climbing wall\, monster truck rides\, an archery shootout trailer\, BBQ cook-off (where we were Overall Reserve Champions in the past) and much more. Make sure you stop by the Bar None Country Store booth where we’ll showcase our Yeti products plus our outdoor furniture\, fire pits\, MUDS boots and more. Free gate admission and parking included! For more information\, a show schedule and a detailed list of attractions and exhibitors\, please visit the South 40 Outdoor Expo website here. \n \n 
URL:https://barnonecountrystore.com/event/south-40-outdoor-expo/
LOCATION:ExtraCo Event Center\, 4601 Bosque Blvd.\, Waco\, Texas\, 76710
CATEGORIES:The Outdoors
ATTACH;FMTTYPE=image/jpeg:https://barnonecountrystore.com/wp-content/uploads/2019/03/south-40-outddor-expo1-1.jpg
END:VEVENT
END:VCALENDAR